View In:
ArcGIS JavaScript
ArcGIS Online Map Viewer
ArcGIS Earth
ArcGIS Pro
Service Description: Spring 2020 imagery for the entire County of Monroe 6 inch RGB SID Mosaic
Map Name: Layers
Legend
All Layers and Tables
Layers:
Description:
Service Item Id: ef52d6afce6f427fbea5db5b599359ed
Copyright Text: Semcog, County of Monroe
Spatial Reference:
102100
(3857)
Single Fused Map Cache: true
Tile Info:
- Height: 256
- Width: 256
- DPI: 96
-
Levels of Detail: 20
-
Level ID: 1
[ Start Tile, End Tile ]
- Resolution: 78271.5169639999
- Scale: 2.95828763795777E8
-
Level ID: 2
[ Start Tile, End Tile ]
- Resolution: 39135.7584820001
- Scale: 1.47914381897889E8
-
Level ID: 3
[ Start Tile, End Tile ]
- Resolution: 19567.8792409999
- Scale: 7.3957190948944E7
-
Level ID: 4
[ Start Tile, End Tile ]
- Resolution: 9783.93962049996
- Scale: 3.6978595474472E7
-
Level ID: 5
[ Start Tile, End Tile ]
- Resolution: 4891.96981024998
- Scale: 1.8489297737236E7
- Format: MIXED
- Compression Quality: 75.0
- Origin: X: -2.0037508342787E7
Y: 2.0037508342787E7
- Spatial Reference: 102100
(3857)
Initial Extent:
XMin: -9361981.665435305
YMin: 5110680.609641388
XMax: -9242999.994700788
YMax: 5181362.619061992
Spatial Reference: 102100
Full Extent:
XMin: -9361907.55745951
YMin: 5134140.961383701
XMax: -9242999.994700788
YMax: 5181362.619061992
Spatial Reference: 102100
Units: esriMeters
Supported Image Format Types: PNG32,PNG24,PNG,JPG,DIB,TIFF,EMF,PS,PDF,GIF,SVG,SVGZ,BMP
Document Info:
Title: CountywideTiles
Author: City of Monroe
Comments: Spring 2020 imagery for the entire County of Monroe 6 inch RGB SID Mosaic
Subject: Monroe County Spring 2020 imagery
Category:
Keywords: Imagery, Spring, 2020, County, Monroe
AntialiasingMode: Best
TextAntialiasingMode: Force
Supports Dynamic Layers: false
MaxRecordCount: 1000
MaxImageHeight: 4096
MaxImageWidth: 4096
Supported Query Formats: JSON, geoJSON
Supports Query Data Elements:
Min Scale: 147914382
Max Scale: 0
Min LOD: 0
Max LOD: 19
Supports Datum Transformation: true
Child Resources:
Info
Supported Operations:
QueryLegends
EstimateExportTilesSize
ExportTiles
Return Updates